2.438400000000
0.000000000000
0.000000000000
-2.438400000000
750806.070884157670
3849830.116943241090
