2.438400000000
0.000000000000
0.000000000000
-2.438400000000
670495.746446084231
3861684.398518444505
