2.438400000000
0.000000000000
0.000000000000
-2.438400000000
659074.388115167734
3861460.532735050656
