2.438400000000
0.000000000000
0.000000000000
-2.438400000000
442285.776246780650
3901513.013763049600
