2.438400000000
0.000000000000
0.000000000000
-2.438400000000
408942.385194109112
3984985.915424533650
