2.438400000000
0.000000000000
0.000000000000
-2.438400000000
340478.156250031024
3944348.658361400010
