2.438400000000
0.000000000000
0.000000000000
-2.438400000000
305564.384730176418
3903422.433612333145
