2.438400000000
0.000000000000
0.000000000000
-2.438400000000
227480.823683146446
3960961.988317310344
