2.438400000000
0.000000000000
0.000000000000
-2.438400000000
669547.140267999144
3917046.234277754556
