2.438400000000
0.000000000000
0.000000000000
-2.438400000000
590064.821020494797
3915786.044740425423
