2.438400000000
0.000000000000
0.000000000000
-2.438400000000
589500.229171093320
3971242.343836779706
