2.438400000000
0.000000000000
0.000000000000
-2.438400000000
521778.187417238310
3943084.840948106250
