2.438400000000
0.000000000000
0.000000000000
-2.438400000000
499140.470175835711
3943025.616494914980
