2.400
0.000
0.000
-2.400
408007.240
3915615.970
