2.400
0.000
0.000
-2.400
408165.780
3943415.070
