2.400
0.000
0.000
-2.400
408293.920
3970930.060
