2.438400
0.000000
0.000000
-2.438400
363901.313525
3999430.256927
