2.438400
0.000000
0.000000
-2.438400
263173.091155
4029490.580601
