2.438400
0.000000
0.000000
-2.438400
588761.393448
4040527.140065
