2.438400
0.000000
0.000000
-2.438400
577922.460788
3998847.695353
