2.438400
0.000000
0.000000
-2.438400
442983.401837
4012444.451608
