2.438400000000
0.000000000000
0.000000000000
-2.438400000000
700844.660617485526
4472957.129429396242
