2.438400000000
0.000000000000
0.000000000000
-2.438400000000
605479.204196968349
4456983.204757416621
