2.438400000000
0.000000000000
0.000000000000
-2.438400000000
647727.928001696244
4471642.695745985955
