2.438400000000
0.000000000000
0.000000000000
-2.438400000000
593780.681777472841
4540078.882694122382
