2.438400000000
0.000000000000
0.000000000000
-2.438400000000
562746.317242233781
4470460.701778866351
