2.438400000000
0.000000000000
0.000000000000
-2.438400000000
552137.072990282788
4470361.234780241735
