2.438400000000
0.000000000000
0.000000000000
-2.438400000000
562510.963657846791
4498210.423184702173
