2.438400000000
0.000000000000
0.000000000000
-2.438400000000
413974.196770092647
4456555.357207406310
