2.438400000000
0.000000000000
0.000000000000
-2.438400000000
435398.478032945829
4470217.297824678940
