2.438400000000
0.000000000000
0.000000000000
-2.438400000000
414920.782106886210
4539800.510160730220
