2.438400000000
0.000000000000
0.000000000000
-2.438400000000
338989.604171286977
4443978.400765996426
