2.438400000000
0.000000000000
0.000000000000
-2.438400000000
310188.358751518590
4569523.743408026200
