2.438400000000
0.000000000000
0.000000000000
-2.438400000000
385176.341898565704
4665290.388461708090
