2.438400000000
0.000000000000
0.000000000000
-2.438400000000
334702.082256289373
4721837.998288067050
