2.438400000000
0.000000000000
0.000000000000
-2.438400000000
406991.090544903825
4748262.573285468850
