2.43840000
0.00000000
0.00000000
-2.43840000
499237.02797432
3568728.59539602
