2.43840000
0.00000000
0.00000000
-2.43840000
510920.92254233
3651889.07999814
