2.43840000
0.00000000
0.00000000
-2.43840000
452195.52489244
3596547.06822477
