2.43840000
0.00000000
0.00000000
-2.43840000
464006.19486125
3610353.13583110
