2.43840000
0.00000000
0.00000000
-2.43840000
381626.75476072
3597129.58883251
