2.43840000
0.00000000
0.00000000
-2.43840000
251205.88145964
3557902.60858582
