2.43840000
0.00000000
0.00000000
-2.43840000
299285.12785812
3598437.42494478
