2.43840000
0.00000000
0.00000000
-2.43840000
288689.36475407
3654123.76672120
