2.43840000
0.00000000
0.00000000
-2.43840000
276989.64912639
3654383.84110779
