2.43840000
0.00000000
0.00000000
-2.43840000
687897.56436588
3556859.40640575
