2.438400
0
0
-2.438400
660904.118049
3750423.148991
