2.438400000000
0.000000000000
0.000000000000
-2.438400000000
557118.635573139647
3735266.866617070045
