2.438400000000
0.000000000000
0.000000000000
-2.438400000000
533860.717273970600
3762844.073877815157
