2.438400000000
0.000000000000
0.000000000000
-2.438400000000
510778.172837306804
3762757.254013483878
